BEGIN:VCALENDAR
VERSION:2.0
PRODID:-//hastingsfamilyservice.org//NONSGML kigkonsult.se iCalcreator 2.30
 .10//
CALSCALE:GREGORIAN
METHOD:PUBLISH
UID:0a5218fa-dd38-42e0-bdc6-18b653b4ebfb
X-WR-CALDESC:Hastings Family Service and Rivertown Treasures thrift store a
 re closed in observance of Juneteenth.
X-WR-RELCALID:bac4ae8e2dd67b7b64fe84c9277ffec2
X-WR-TIMEZONE:America/Chicago
BEGIN:VTIMEZONE
TZID:America/Chicago
BEGIN:STANDARD
TZNAME:CST
DTSTART:20251102T020000
TZOFFSETFROM:-0500
TZOFFSETTO:-0600
RDATE:20261101T020000
RDATE:20271107T020000
END:STANDARD
BEGIN:DAYLIGHT
TZNAME:CDT
DTSTART:20260308T020000
TZOFFSETFROM:-0600
TZOFFSETTO:-0500
RDATE:20270314T020000
END:DAYLIGHT
END:VTIMEZONE
BEGIN:VEVENT
UID:f7d4f1a6-c3c0-4306-a484-19d5d3370212
DTSTAMP:20260422T103328Z
DESCRIPTION:Hastings Family Service and Rivertown Treasures thrift store ar
 e closed in observance of Juneteenth.
DTSTART;TZID=America/Chicago:20260619T050000
DTEND;TZID=America/Chicago:20260619T050001
LOCATION:
SUMMARY:HFS and Rivertown Treasures Closed
END:VEVENT
END:VCALENDAR
