BEGIN:VCALENDAR
VERSION:2.0
PRODID:-//hastingsfamilyservice.org//NONSGML kigkonsult.se iCalcreator 2.30
 .10//
CALSCALE:GREGORIAN
METHOD:PUBLISH
UID:9b0451d8-db54-49e2-a31b-4c1468b9ac02
X-WR-CALDESC:Help HFS Drive Out Hunger at this fun benefit! Join us for a g
 reat day of 18-holes of golf\, contests\, and awards. \n\nEvent Schedule:
 \n\n10 a.m. Registration\n11 a.m. Shotgun Start\n4 p.m. Dinner & Awards\n
 \nPrice: $500 per foursome includes golf\, cart\, a light lunch\, dinner a
 nd four mulligans.\n\nSponsorships available!
X-WR-RELCALID:19c53bad97655439742d38f65643822b
X-WR-TIMEZONE:America/Chicago
BEGIN:VTIMEZONE
TZID:America/Chicago
BEGIN:STANDARD
TZNAME:CST
DTSTART:20241103T020000
TZOFFSETFROM:-0500
TZOFFSETTO:-0600
RDATE:20251102T020000
RDATE:20261101T020000
END:STANDARD
BEGIN:DAYLIGHT
TZNAME:CDT
DTSTART:20250309T020000
TZOFFSETFROM:-0600
TZOFFSETTO:-0500
RDATE:20260308T020000
END:DAYLIGHT
END:VTIMEZONE
BEGIN:VEVENT
UID:99dbc8ab-fc8f-43e0-89f6-8815a97fb6e8
DTSTAMP:20260426T040018Z
DESCRIPTION:Help HFS Drive Out Hunger at this fun benefit! Join us for a gr
 eat day of 18-holes of golf\, contests\, and awards. \n\nEvent Schedule:\n
 \n10 a.m. Registration\n11 a.m. Shotgun Start\n4 p.m. Dinner & Awards\n\nP
 rice: $500 per foursome includes golf\, cart\, a light lunch\, dinner and 
 four mulligans.\n\nSponsorships available!
DTSTART;TZID=America/Chicago:20250616T050000
DTEND;TZID=America/Chicago:20250616T050001
LOCATION:Hastings Golf Club\, 2015 Westview Drive\, Hastings\, MN 55033 US
SUMMARY:Drive Out Hunger Golf Tournament Benefit
END:VEVENT
END:VCALENDAR
