BEGIN:VCALENDAR
VERSION:2.0
PRODID:-//hastingsfamilyservice.org//NONSGML kigkonsult.se iCalcreator 2.30
 .10//
CALSCALE:GREGORIAN
METHOD:PUBLISH
UID:4d6c9696-bfda-43fa-b11d-7eee3bba3add
X-WR-CALDESC:Watch a live ice carving at Oliver's Grove from 12 to 4pm by M
 aster Ice Sculptor Tom Schiller\, stroll to 'cool' DJ tunes around Histori
 c Downtown Hastings\, and enjoy shopping and activities from local busines
 ses. Visitors to Rivertown Treasures will enjoy 20% off of their purchase 
 (some exclusions apply). Stop by to have your passport card stamped and sh
 op from 10am to 3pm. Rivertown Treasures is a proud member of the Hastings
  Downtown Business Association and the Hastings MN Chamber of Commerce\; h
 osts of the event.\n
X-WR-RELCALID:9ceb861f2d8d77f464df298cd2cb525f
X-WR-TIMEZONE:America/Chicago
BEGIN:VTIMEZONE
TZID:America/Chicago
BEGIN:STANDARD
TZNAME:CST
DTSTART:20231105T020000
TZOFFSETFROM:-0500
TZOFFSETTO:-0600
RDATE:20241103T020000
END:STANDARD
BEGIN:DAYLIGHT
TZNAME:CDT
DTSTART:20230312T020000
TZOFFSETFROM:-0600
TZOFFSETTO:-0500
RDATE:20240310T020000
RDATE:20250309T020000
END:DAYLIGHT
END:VTIMEZONE
BEGIN:VEVENT
UID:19a1ef0e-f7b7-427b-974c-c4cbfd0281ed
DTSTAMP:20260419T155335Z
DESCRIPTION:Watch a live ice carving at Oliver's Grove from 12 to 4pm by Ma
 ster Ice Sculptor Tom Schiller\, stroll to 'cool' DJ tunes around Historic
  Downtown Hastings\, and enjoy shopping and activities from local business
 es. Visitors to Rivertown Treasures will enjoy 20% off of their purchase (
 some exclusions apply). Stop by to have your passport card stamped and sho
 p from 10am to 3pm. Rivertown Treasures is a proud member of the Hastings 
 Downtown Business Association and the Hastings MN Chamber of Commerce\; ho
 sts of the event.\n
DTSTART;TZID=America/Chicago:20240120T110000
DTEND;TZID=America/Chicago:20240120T170000
LOCATION:Rivertown Treasures\, 301 2nd St E\, Hastings\, MN 55033 US
SUMMARY:Yeti Ice Sculpture Celebration & Rivertown Treasures Special
END:VEVENT
END:VCALENDAR
