BEGIN:VCALENDAR
VERSION:2.0
PRODID:-//hastingsfamilyservice.org//NONSGML kigkonsult.se iCalcreator 2.30
 .10//
CALSCALE:GREGORIAN
METHOD:PUBLISH
UID:f214b5ac-11b0-486c-8aa8-fba333250db3
X-WR-CALDESC:Rivertown Treasures thrift store is closed for the holidays fr
 om Monday\, December 25\, to Monday\, January 1\, so that volunteers and s
 taff can enjoy family time and a restorative break. HFS and Rivertown Trea
 sures will open again on Tuesday\, January 2. We wish everyone a happy and
  safe holiday season!
X-WR-RELCALID:d1559122df5b1be6770e2289531b4a6f
X-WR-TIMEZONE:America/Chicago
BEGIN:VTIMEZONE
TZID:America/Chicago
BEGIN:STANDARD
TZNAME:CST
DTSTART:20231105T020000
TZOFFSETFROM:-0500
TZOFFSETTO:-0600
RDATE:20241103T020000
END:STANDARD
BEGIN:DAYLIGHT
TZNAME:CDT
DTSTART:20230312T020000
TZOFFSETFROM:-0600
TZOFFSETTO:-0500
RDATE:20240310T020000
RDATE:20250309T020000
END:DAYLIGHT
END:VTIMEZONE
BEGIN:VEVENT
UID:db873520-0a7f-4347-aa55-569fa69caef8
DTSTAMP:20260419T174359Z
DESCRIPTION:Rivertown Treasures thrift store is closed for the holidays fro
 m Monday\, December 25\, to Monday\, January 1\, so that volunteers and st
 aff can enjoy family time and a restorative break. HFS and Rivertown Treas
 ures will open again on Tuesday\, January 2. We wish everyone a happy and 
 safe holiday season!
DTSTART;TZID=America/Chicago:20231230T050000
DTEND;TZID=America/Chicago:20231230T050001
LOCATION:Hastings Family Service and Rivertown Treasures Thrift Store\, 301
  2nd St E\, Hastings\, MN 55033 US
SUMMARY:Rivertown Treasures Thrift Store Closed
END:VEVENT
END:VCALENDAR
