BEGIN:VCALENDAR
VERSION:2.0
PRODID:-//hastingsfamilyservice.org//NONSGML kigkonsult.se iCalcreator 2.30
 .10//
CALSCALE:GREGORIAN
METHOD:PUBLISH
UID:0c8fdbec-fd67-4f62-aaea-77c3d67e338f
X-WR-CALDESC:Hastings Family Service and Rivertown Treasures thrift store a
 re closed for the holidays from Monday\, December 25\, to Monday\, January
  1\, so that volunteers and staff can enjoy family time and a restorative 
 break. HFS and Rivertown Treasures will open again on Tuesday\, January 2.
  We wish everyone a happy and safe holiday season!
X-WR-RELCALID:87d9ca58b14c5c980d15db0dfda7f5e1
X-WR-TIMEZONE:America/Chicago
BEGIN:VTIMEZONE
TZID:America/Chicago
BEGIN:STANDARD
TZNAME:CST
DTSTART:20231105T020000
TZOFFSETFROM:-0500
TZOFFSETTO:-0600
RDATE:20241103T020000
END:STANDARD
BEGIN:DAYLIGHT
TZNAME:CDT
DTSTART:20230312T020000
TZOFFSETFROM:-0600
TZOFFSETTO:-0500
RDATE:20240310T020000
RDATE:20250309T020000
END:DAYLIGHT
END:VTIMEZONE
BEGIN:VEVENT
UID:d903c838-c40b-4148-a64a-6d3b0aeca142
DTSTAMP:20260419T171255Z
DESCRIPTION:Hastings Family Service and Rivertown Treasures thrift store ar
 e closed for the holidays from Monday\, December 25\, to Monday\, January 
 1\, so that volunteers and staff can enjoy family time and a restorative b
 reak. HFS and Rivertown Treasures will open again on Tuesday\, January 2. 
 We wish everyone a happy and safe holiday season!
DTSTART;TZID=America/Chicago:20231229T050000
DTEND;TZID=America/Chicago:20231229T050001
LOCATION:Hastings Family Service and Rivertown Treasures Thrift Store\, 301
  2nd St E\, Hastings\, MN 55033 US
SUMMARY:HFS and Rivertown Treasures Thrift Store Closed
END:VEVENT
END:VCALENDAR
