BEGIN:VCALENDAR
VERSION:2.0
PRODID:-//hastingsfamilyservice.org//NONSGML kigkonsult.se iCalcreator 2.30
 .10//
CALSCALE:GREGORIAN
METHOD:PUBLISH
UID:bd523e89-92d7-41d1-874e-1cf319127ce6
X-WR-CALDESC:Hastings Family Service and Rivertown Treasures thrift store a
 re closed for the holidays from Monday\, December 25\, to Monday\, January
  1\, so that volunteers and staff can enjoy family time and a restorative 
 break. HFS and Rivertown Treasures will open again on Tuesday\, January 2.
  We wish everyone a happy and safe holiday season!
X-WR-RELCALID:3bf4b16962b524e15e4db928ed8e1ba7
X-WR-TIMEZONE:America/Chicago
BEGIN:VTIMEZONE
TZID:America/Chicago
BEGIN:STANDARD
TZNAME:CST
DTSTART:20231105T020000
TZOFFSETFROM:-0500
TZOFFSETTO:-0600
RDATE:20241103T020000
END:STANDARD
BEGIN:DAYLIGHT
TZNAME:CDT
DTSTART:20230312T020000
TZOFFSETFROM:-0600
TZOFFSETTO:-0500
RDATE:20240310T020000
RDATE:20250309T020000
END:DAYLIGHT
END:VTIMEZONE
BEGIN:VEVENT
UID:6d8a8f4f-c9fa-4419-b509-c01be0869822
DTSTAMP:20260419T174522Z
DESCRIPTION:Hastings Family Service and Rivertown Treasures thrift store ar
 e closed for the holidays from Monday\, December 25\, to Monday\, January 
 1\, so that volunteers and staff can enjoy family time and a restorative b
 reak. HFS and Rivertown Treasures will open again on Tuesday\, January 2. 
 We wish everyone a happy and safe holiday season!
DTSTART;TZID=America/Chicago:20231225T050000
DTEND;TZID=America/Chicago:20231225T050001
LOCATION:Hastings Family Service and Rivertown Treasures Thrift Store\, 301
  2nd St E\, Hastings\, MN 55033 US
SUMMARY:HFS and Rivertown Treasures Thrift Store Closed
END:VEVENT
END:VCALENDAR
