BEGIN:VCALENDAR
VERSION:2.0
PRODID:-//hastingsfamilyservice.org//NONSGML kigkonsult.se iCalcreator 2.30
 .10//
CALSCALE:GREGORIAN
METHOD:PUBLISH
UID:6644f562-8542-4e6a-9c84-864dbde6a469
X-WR-CALDESC:Enjoy a performance by River Blades Skating School at 6pm foll
 owed by an open skate from 7:20 to 8:30pm. Pictures with Santa will be ava
 ilable from 7:15 to 8pm\, with a suggested donation to Hastings Family Ser
 vice.
X-WR-RELCALID:ace64c7307b6696d65a72947c788e502
X-WR-TIMEZONE:America/Chicago
BEGIN:VTIMEZONE
TZID:America/Chicago
BEGIN:STANDARD
TZNAME:CST
DTSTART:20231105T020000
TZOFFSETFROM:-0500
TZOFFSETTO:-0600
RDATE:20241103T020000
END:STANDARD
BEGIN:DAYLIGHT
TZNAME:CDT
DTSTART:20230312T020000
TZOFFSETFROM:-0600
TZOFFSETTO:-0500
RDATE:20240310T020000
RDATE:20250309T020000
END:DAYLIGHT
END:VTIMEZONE
BEGIN:VEVENT
UID:7d25ebac-af0c-4f48-92fd-0fc52fa1d9ee
DTSTAMP:20260419T174601Z
DESCRIPTION:Enjoy a performance by River Blades Skating School at 6pm follo
 wed by an open skate from 7:20 to 8:30pm. Pictures with Santa will be avai
 lable from 7:15 to 8pm\, with a suggested donation to Hastings Family Serv
 ice.
DTSTART;TZID=America/Chicago:20231216T180000
DTEND;TZID=America/Chicago:20231216T203000
LOCATION:Hastings Civic Arena\, 2801 Redwing Blvd.\, Hastings\, MN 55033 US
SUMMARY:Skate with Santa Benefit
END:VEVENT
END:VCALENDAR
