BEGIN:VCALENDAR
VERSION:2.0
PRODID:-//hastingsfamilyservice.org//NONSGML kigkonsult.se iCalcreator 2.30
 .10//
CALSCALE:GREGORIAN
METHOD:PUBLISH
UID:720b3b01-e985-46d4-928c-da0f6cdbfe46
X-WR-CALDESC:Join the Miesville Fire Department and the Douglas 4-H Club fo
 r a festive day to visit Santa and the reindeer and shop market vendors. N
 on-perishable food donations will be collected.
X-WR-RELCALID:23e5e7232be648e8782a9fd2dad17cdc
X-WR-TIMEZONE:America/Chicago
BEGIN:VTIMEZONE
TZID:America/Chicago
BEGIN:STANDARD
TZNAME:CST
DTSTART:20231105T020000
TZOFFSETFROM:-0500
TZOFFSETTO:-0600
RDATE:20241103T020000
END:STANDARD
BEGIN:DAYLIGHT
TZNAME:CDT
DTSTART:20230312T020000
TZOFFSETFROM:-0600
TZOFFSETTO:-0500
RDATE:20240310T020000
RDATE:20250309T020000
END:DAYLIGHT
END:VTIMEZONE
BEGIN:VEVENT
UID:7b2f16a5-4870-4d7b-b267-db7753c487dc
DTSTAMP:20260419T173234Z
DESCRIPTION:Join the Miesville Fire Department and the Douglas 4-H Club for
  a festive day to visit Santa and the reindeer and shop market vendors. No
 n-perishable food donations will be collected.
DTSTART;TZID=America/Chicago:20231210T110000
DTEND;TZID=America/Chicago:20231210T150000
LOCATION:Miesville Fire Hall\, 240th St E\, Hastings\, MN 55033 US
SUMMARY:Christmas Market Benefit
END:VEVENT
END:VCALENDAR
