BEGIN:VCALENDAR
VERSION:2.0
PRODID:-//hastingsfamilyservice.org//NONSGML kigkonsult.se iCalcreator 2.30
 .10//
CALSCALE:GREGORIAN
METHOD:PUBLISH
UID:a2792a71-0d2c-4ad5-b46a-39ae633925e3
X-WR-CALDESC:Enjoy the arrival of the CPKC Holiday Train and free holiday c
 oncert by Tenille Townes & Breland in support of local food shelves. Pleas
 e consider bringing a food and/or monetary donation for Hastings Family Se
 rvice.
X-WR-RELCALID:2090a1a12af4e3eca64f7a8b869814f8
X-WR-TIMEZONE:America/Chicago
BEGIN:VTIMEZONE
TZID:America/Chicago
BEGIN:STANDARD
TZNAME:CST
DTSTART:20231105T020000
TZOFFSETFROM:-0500
TZOFFSETTO:-0600
RDATE:20241103T020000
END:STANDARD
BEGIN:DAYLIGHT
TZNAME:CDT
DTSTART:20230312T020000
TZOFFSETFROM:-0600
TZOFFSETTO:-0500
RDATE:20240310T020000
RDATE:20250309T020000
END:DAYLIGHT
END:VTIMEZONE
BEGIN:VEVENT
UID:4dc6e033-73f4-4165-a29b-d2eff18f1edc
DTSTAMP:20260419T172700Z
DESCRIPTION:Enjoy the arrival of the CPKC Holiday Train and free holiday co
 ncert by Tenille Townes & Breland in support of local food shelves. Please
  consider bringing a food and/or monetary donation for Hastings Family Ser
 vice.
DTSTART;TZID=America/Chicago:20231209T200000
DTEND;TZID=America/Chicago:20231209T204500
LOCATION:CP Depot\, 500 E 2nd St\, Hastings\, MN 55033 US
SUMMARY:Holiday Train
END:VEVENT
END:VCALENDAR
