BEGIN:VCALENDAR
VERSION:2.0
PRODID:-//hastingsfamilyservice.org//NONSGML kigkonsult.se iCalcreator 2.30
 .10//
CALSCALE:GREGORIAN
METHOD:PUBLISH
UID:156aae28-1fe7-4901-a50f-590896ab2fc6
X-WR-CALDESC:Spread holiday joy while enjoying time with family and friends
 ! Missi's Sip & Savor at The Confluence Hotel is featuring a special 'Deck
  the Halls' holiday cocktail with proceeds benefiting Hastings Family Serv
 ice. Thank you to The Confluence Hotel and Missi's Sip & Savor for spreadi
 ng joy and making a difference together! Watch for more Thursday holiday d
 rink benefits during the month of December!
X-WR-RELCALID:1440befd719b9d43645a24ef080cad0e
X-WR-TIMEZONE:America/Chicago
BEGIN:VTIMEZONE
TZID:America/Chicago
BEGIN:STANDARD
TZNAME:CST
DTSTART:20231105T020000
TZOFFSETFROM:-0500
TZOFFSETTO:-0600
RDATE:20241103T020000
END:STANDARD
BEGIN:DAYLIGHT
TZNAME:CDT
DTSTART:20230312T020000
TZOFFSETFROM:-0600
TZOFFSETTO:-0500
RDATE:20240310T020000
RDATE:20250309T020000
END:DAYLIGHT
END:VTIMEZONE
BEGIN:VEVENT
UID:a142f439-081c-4e5d-bd05-3eea1cfe33f9
DTSTAMP:20260419T173700Z
DESCRIPTION:Spread holiday joy while enjoying time with family and friends!
  Missi's Sip & Savor at The Confluence Hotel is featuring a special 'Deck 
 the Halls' holiday cocktail with proceeds benefiting Hastings Family Servi
 ce. Thank you to The Confluence Hotel and Missi's Sip & Savor for spreadin
 g joy and making a difference together! Watch for more Thursday holiday dr
 ink benefits during the month of December!
DTSTART;TZID=America/Chicago:20231207T150000
DTEND;TZID=America/Chicago:20231207T230000
LOCATION:Missi's Sip and Savor at The Confluence Hotel\, 200 2nd St W\, Has
 tings\, MN 55033 US
SUMMARY:Deck the Halls Holiday Drink Special Benefit at Missi's Sip and Sav
 or
END:VEVENT
END:VCALENDAR
