BEGIN:VCALENDAR
VERSION:2.0
PRODID:-//hastingsfamilyservice.org//NONSGML kigkonsult.se iCalcreator 2.30
 .10//
CALSCALE:GREGORIAN
METHOD:PUBLISH
UID:ded61f5c-b420-4b07-a167-f30ffc0d2347
X-WR-CALDESC:Due to space needs for Project Share\, Rivertown Treasures is 
 unable to accept clothing and household donations during the month of Dece
 mber. the Donation Center will be open to accept Project Share and food do
 nations during the month of December. clothing and household donations wil
 l resume on Tuesday\, January 2.
X-WR-RELCALID:475cc034ae33c276fcd27ac7a9fe5f73
X-WR-TIMEZONE:America/Chicago
BEGIN:VTIMEZONE
TZID:America/Chicago
BEGIN:STANDARD
TZNAME:CST
DTSTART:20231105T020000
TZOFFSETFROM:-0500
TZOFFSETTO:-0600
RDATE:20241103T020000
END:STANDARD
BEGIN:DAYLIGHT
TZNAME:CDT
DTSTART:20230312T020000
TZOFFSETFROM:-0600
TZOFFSETTO:-0500
RDATE:20240310T020000
RDATE:20250309T020000
END:DAYLIGHT
END:VTIMEZONE
BEGIN:VEVENT
UID:e976f48e-c913-40fc-a5c7-a9337d350343
DTSTAMP:20260419T173320Z
DESCRIPTION:Due to space needs for Project Share\, Rivertown Treasures is u
 nable to accept clothing and household donations during the month of Decem
 ber. the Donation Center will be open to accept Project Share and food don
 ations during the month of December. clothing and household donations will
  resume on Tuesday\, January 2.
DTSTART;TZID=America/Chicago:20231201T050000
DTEND;TZID=America/Chicago:20231201T050001
LOCATION:
SUMMARY:Donation Center Closed in December for Households & Clothing
END:VEVENT
END:VCALENDAR
