BEGIN:VCALENDAR
VERSION:2.0
PRODID:-//hastingsfamilyservice.org//NONSGML kigkonsult.se iCalcreator 2.30
 .10//
CALSCALE:GREGORIAN
METHOD:PUBLISH
UID:d97a66e6-c228-45ca-b6b0-54aa4effded0
X-WR-CALDESC:Enjoy a holiday drive through the beautiful lights at Bremer F
 arms! Bremer Farms Lights is open daily from dusk to 10pm the entire month
  of December. Donations of non-perishable food items and cash will be coll
 ected during the month of December to benefit programs at Hastings Family 
 Service. Thank you Bremer Farms for your continued support!\n\nThere is al
 so a special one-night event with Santa\, Mrs. Claus\, Princess Kay of the
  Milky Way\, and the cows on December 9 from 5 to 7pm. See calendar or web
 link for more details.
X-WR-RELCALID:c08ec31025fdaa4b37f9383baa6cc2b7
X-WR-TIMEZONE:America/Chicago
BEGIN:VTIMEZONE
TZID:America/Chicago
BEGIN:STANDARD
TZNAME:CST
DTSTART:20231105T020000
TZOFFSETFROM:-0500
TZOFFSETTO:-0600
RDATE:20241103T020000
END:STANDARD
BEGIN:DAYLIGHT
TZNAME:CDT
DTSTART:20230312T020000
TZOFFSETFROM:-0600
TZOFFSETTO:-0500
RDATE:20240310T020000
RDATE:20250309T020000
END:DAYLIGHT
END:VTIMEZONE
BEGIN:VEVENT
UID:28373a50-ca00-4687-b412-da9343cec44e
DTSTAMP:20260419T171327Z
DESCRIPTION:Enjoy a holiday drive through the beautiful lights at Bremer Fa
 rms! Bremer Farms Lights is open daily from dusk to 10pm the entire month 
 of December. Donations of non-perishable food items and cash will be colle
 cted during the month of December to benefit programs at Hastings Family S
 ervice. Thank you Bremer Farms for your continued support!\n\nThere is als
 o a special one-night event with Santa\, Mrs. Claus\, Princess Kay of the 
 Milky Way\, and the cows on December 9 from 5 to 7pm. See calendar or webl
 ink for more details.
DTSTART;TZID=America/Chicago:20231201T180000
DTEND;TZID=America/Chicago:20231201T220000
LOCATION:Bremer Farms\, 7048 150th St E\, Hastings\, MN 55033 US
SUMMARY:Bremer Farms Lights Benefit Begins
END:VEVENT
END:VCALENDAR
