BEGIN:VCALENDAR
VERSION:2.0
PRODID:-//hastingsfamilyservice.org//NONSGML kigkonsult.se iCalcreator 2.30
 .10//
CALSCALE:GREGORIAN
METHOD:PUBLISH
UID:27271d87-6697-455a-9652-bd62950d59af
X-WR-CALDESC:Visit Historic Downtown Hastings and shop Rivertown Treasures 
 on Small Business Saturday and enjoy activities hosted by the Hastings Dow
 ntown Business Association's Holiday Hoopla. We hope to see you there!
X-WR-RELCALID:e49e109822fb72241ae019aa2664de37
X-WR-TIMEZONE:America/Chicago
BEGIN:VTIMEZONE
TZID:America/Chicago
BEGIN:STANDARD
TZNAME:CST
DTSTART:20231105T020000
TZOFFSETFROM:-0500
TZOFFSETTO:-0600
RDATE:20241103T020000
END:STANDARD
BEGIN:DAYLIGHT
TZNAME:CDT
DTSTART:20230312T020000
TZOFFSETFROM:-0600
TZOFFSETTO:-0500
RDATE:20240310T020000
RDATE:20250309T020000
END:DAYLIGHT
END:VTIMEZONE
BEGIN:VEVENT
UID:1606b78f-5922-4820-af39-a4af2295acf1
DTSTAMP:20260419T191722Z
DESCRIPTION:Visit Historic Downtown Hastings and shop Rivertown Treasures o
 n Small Business Saturday and enjoy activities hosted by the Hastings Down
 town Business Association's Holiday Hoopla. We hope to see you there!
DTSTART;TZID=America/Chicago:20231125T100000
DTEND;TZID=America/Chicago:20231125T150000
LOCATION:Rivertown Treasures Thrift Store\, 301 2nds St E\, Hastings\, MN 5
 5033 US
SUMMARY:Small Business Saturday and Historic Downtown's Holiday Hoopla
END:VEVENT
END:VCALENDAR
