BEGIN:VCALENDAR
VERSION:2.0
PRODID:-//hastingsfamilyservice.org//NONSGML kigkonsult.se iCalcreator 2.30
 .10//
CALSCALE:GREGORIAN
METHOD:PUBLISH
UID:ff4a3a12-c13b-452f-a8b6-6f7f124a2eb3
X-WR-CALDESC:Hastings Family Service and Rivertown Treasures thrift store a
 re closed for the Thanksgiving holiday. Rivertown Treasures will reopen at
  10am on Saturday\, November 25\, for Small Business Saturday.
X-WR-RELCALID:98ceadd50254e3f82561f30a14b5931f
X-WR-TIMEZONE:America/Chicago
BEGIN:VTIMEZONE
TZID:America/Chicago
BEGIN:STANDARD
TZNAME:CST
DTSTART:20231105T020000
TZOFFSETFROM:-0500
TZOFFSETTO:-0600
RDATE:20241103T020000
END:STANDARD
BEGIN:DAYLIGHT
TZNAME:CDT
DTSTART:20230312T020000
TZOFFSETFROM:-0600
TZOFFSETTO:-0500
RDATE:20240310T020000
RDATE:20250309T020000
END:DAYLIGHT
END:VTIMEZONE
BEGIN:VEVENT
UID:a622db04-76f9-40a5-a6ee-e3bf1e7780c4
DTSTAMP:20260419T193923Z
DESCRIPTION:Hastings Family Service and Rivertown Treasures thrift store ar
 e closed for the Thanksgiving holiday. Rivertown Treasures will reopen at 
 10am on Saturday\, November 25\, for Small Business Saturday.
DTSTART;TZID=America/Chicago:20231123T000000
DTEND;TZID=America/Chicago:20231123T235900
LOCATION:Hastings Family Service and Rivertown Treasures Thrift Store\, 301
  2nd St E\, Hastings\, MN 55033 US
SUMMARY:HFS and Rivertown Treasures Thrift Store Closed
END:VEVENT
END:VCALENDAR
