BEGIN:VCALENDAR
VERSION:2.0
PRODID:-//hastingsfamilyservice.org//NONSGML kigkonsult.se iCalcreator 2.30
 .10//
CALSCALE:GREGORIAN
METHOD:PUBLISH
UID:a655121c-7af4-474b-bea8-d04e4291c1e6
X-WR-CALDESC:Gobble Gait packet pickup at:\n\nThe Running Room \n7455 Curre
 ll Blvd\, 109\nWoodbury\, MN 55125\n
X-WR-RELCALID:7bcdc473d8ea1cd973dc080a1caec92a
X-WR-TIMEZONE:America/Chicago
BEGIN:VTIMEZONE
TZID:America/Chicago
BEGIN:STANDARD
TZNAME:CST
DTSTART:20231105T020000
TZOFFSETFROM:-0500
TZOFFSETTO:-0600
RDATE:20241103T020000
END:STANDARD
BEGIN:DAYLIGHT
TZNAME:CDT
DTSTART:20230312T020000
TZOFFSETFROM:-0600
TZOFFSETTO:-0500
RDATE:20240310T020000
RDATE:20250309T020000
END:DAYLIGHT
END:VTIMEZONE
BEGIN:VEVENT
UID:11618e60-06dd-4f0c-bae9-cea85ae26842
DTSTAMP:20260419T194509Z
DESCRIPTION:Gobble Gait packet pickup at:\n\nThe Running Room \n7455 Currel
 l Blvd\, 109\nWoodbury\, MN 55125\n
DTSTART;TZID=America/Chicago:20231122T100000
DTEND;TZID=America/Chicago:20231122T140000
LOCATION:
SUMMARY:Gobble Gait Packet Pickup @ The Running Room - Woodbury
END:VEVENT
END:VCALENDAR
