BEGIN:VCALENDAR
VERSION:2.0
PRODID:-//hastingsfamilyservice.org//NONSGML kigkonsult.se iCalcreator 2.30
 .10//
CALSCALE:GREGORIAN
METHOD:PUBLISH
UID:1980d586-c008-41fc-b296-2268735aa3eb
X-WR-CALDESC:Gobble Gait packet pickup at:\n\nAmerican Legion Post 47\n50 S
 ibley Street\nHastings\, MN 55033\n
X-WR-RELCALID:238133a898d28f0290b0300ea83535e7
X-WR-TIMEZONE:America/Chicago
BEGIN:VTIMEZONE
TZID:America/Chicago
BEGIN:STANDARD
TZNAME:CST
DTSTART:20231105T020000
TZOFFSETFROM:-0500
TZOFFSETTO:-0600
RDATE:20241103T020000
END:STANDARD
BEGIN:DAYLIGHT
TZNAME:CDT
DTSTART:20230312T020000
TZOFFSETFROM:-0600
TZOFFSETTO:-0500
RDATE:20240310T020000
RDATE:20250309T020000
END:DAYLIGHT
END:VTIMEZONE
BEGIN:VEVENT
UID:cb51c108-62c7-4fc7-be9a-98f31a3f747f
DTSTAMP:20260419T193141Z
DESCRIPTION:Gobble Gait packet pickup at:\n\nAmerican Legion Post 47\n50 Si
 bley Street\nHastings\, MN 55033\n
DTSTART;TZID=America/Chicago:20231122T160000
DTEND;TZID=America/Chicago:20231122T200000
LOCATION:
SUMMARY:Gobble Gait Packet Pickup @ American Legion Post 47 - Hastings
END:VEVENT
END:VCALENDAR
