BEGIN:VCALENDAR
VERSION:2.0
PRODID:-//hastingsfamilyservice.org//NONSGML kigkonsult.se iCalcreator 2.30
 .10//
CALSCALE:GREGORIAN
METHOD:PUBLISH
UID:0a10e299-6b6d-412b-ae36-c92d08ae2b3d
X-WR-CALDESC:Gobble Gait packet pickup at:\n\nThe Running Room \n7455 Curre
 ll Blvd\, 109\nWoodbury\, MN 55125\n
X-WR-RELCALID:03792a89990e1aa30af242312cad6762
X-WR-TIMEZONE:America/Chicago
BEGIN:VTIMEZONE
TZID:America/Chicago
BEGIN:STANDARD
TZNAME:CST
DTSTART:20231105T020000
TZOFFSETFROM:-0500
TZOFFSETTO:-0600
RDATE:20241103T020000
END:STANDARD
BEGIN:DAYLIGHT
TZNAME:CDT
DTSTART:20230312T020000
TZOFFSETFROM:-0600
TZOFFSETTO:-0500
RDATE:20240310T020000
RDATE:20250309T020000
END:DAYLIGHT
END:VTIMEZONE
BEGIN:VEVENT
UID:5235417d-8999-424b-9129-54a6d4cbdafd
DTSTAMP:20260419T194630Z
DESCRIPTION:Gobble Gait packet pickup at:\n\nThe Running Room \n7455 Currel
 l Blvd\, 109\nWoodbury\, MN 55125\n
DTSTART;TZID=America/Chicago:20231121T120000
DTEND;TZID=America/Chicago:20231121T180000
LOCATION:
SUMMARY:Gobble Gait Packet Pickup @ The Running Room - Woodbury
END:VEVENT
END:VCALENDAR
