BEGIN:VCALENDAR
VERSION:2.0
PRODID:-//hastingsfamilyservice.org//NONSGML kigkonsult.se iCalcreator 2.30
 .10//
CALSCALE:GREGORIAN
METHOD:PUBLISH
UID:63402e10-ec14-4ff9-8626-3d5459cf72f4
X-WR-CALDESC:Church families from around Hastings will be joining together 
 to worship at this event hosted by St. Philip's Lutheran Church. Please co
 nsider bringing a non-perishable food item for HFS. A free-will offering w
 ill also be taken and the donations shared between HFS and Hastings United
  Way. All are welcome! \n\nThank you to St. Philip's Lutheran Church and f
 aith partners for your support!
X-WR-RELCALID:29717514d9c6c2236b6a270329fd99e3
X-WR-TIMEZONE:America/Chicago
BEGIN:VTIMEZONE
TZID:America/Chicago
BEGIN:STANDARD
TZNAME:CST
DTSTART:20231105T020000
TZOFFSETFROM:-0500
TZOFFSETTO:-0600
RDATE:20241103T020000
END:STANDARD
BEGIN:DAYLIGHT
TZNAME:CDT
DTSTART:20230312T020000
TZOFFSETFROM:-0600
TZOFFSETTO:-0500
RDATE:20240310T020000
RDATE:20250309T020000
END:DAYLIGHT
END:VTIMEZONE
BEGIN:VEVENT
UID:4531ab96-a696-4ab3-bbf2-e6179dae0026
DTSTAMP:20260419T194858Z
DESCRIPTION:Church families from around Hastings will be joining together t
 o worship at this event hosted by St. Philip's Lutheran Church. Please con
 sider bringing a non-perishable food item for HFS. A free-will offering wi
 ll also be taken and the donations shared between HFS and Hastings United 
 Way. All are welcome! \n\nThank you to St. Philip's Lutheran Church and fa
 ith partners for your support!
DTSTART;TZID=America/Chicago:20231119T153000
DTEND;TZID=America/Chicago:20231119T163000
LOCATION:St. Philip's Lutheran Church\, 1401 West 15th St\, Hastings\, MN 5
 5033 US
SUMMARY:Ecumenical Community Thanksgiving Worship Benefit
END:VEVENT
END:VCALENDAR
