BEGIN:VCALENDAR
VERSION:2.0
PRODID:-//hastingsfamilyservice.org//NONSGML kigkonsult.se iCalcreator 2.30
 .10//
CALSCALE:GREGORIAN
METHOD:PUBLISH
UID:facf2bf7-c4fb-470a-86d4-8404af7cb961
X-WR-CALDESC:Can we help with an express food pickup for you and your famil
 y? Market Express offers a drive-thru pick up on scheduled dates\; receive
  a 3- to 4-day supply of food such as meat\, bread\, dairy\, produce\, and
  dried goods (contents will vary). Advanced sign-up is required by calling
  Hastings Family Service at 651-437-7134. Sign-up deadline: 4pm on Nov 15\
 , 2023.
X-WR-RELCALID:d6ab38955889a02bafe3b848a941b7ff
X-WR-TIMEZONE:America/Chicago
BEGIN:VTIMEZONE
TZID:America/Chicago
BEGIN:STANDARD
TZNAME:CST
DTSTART:20231105T020000
TZOFFSETFROM:-0500
TZOFFSETTO:-0600
RDATE:20241103T020000
END:STANDARD
BEGIN:DAYLIGHT
TZNAME:CDT
DTSTART:20230312T020000
TZOFFSETFROM:-0600
TZOFFSETTO:-0500
RDATE:20240310T020000
RDATE:20250309T020000
END:DAYLIGHT
END:VTIMEZONE
BEGIN:VEVENT
UID:54acb65a-b1ba-48e4-bfa6-9db6d385d2f2
DTSTAMP:20260419T193726Z
DESCRIPTION:Can we help with an express food pickup for you and your family
 ? Market Express offers a drive-thru pick up on scheduled dates\; receive 
 a 3- to 4-day supply of food such as meat\, bread\, dairy\, produce\, and 
 dried goods (contents will vary). Advanced sign-up is required by calling 
 Hastings Family Service at 651-437-7134. Sign-up deadline: 4pm on Nov 15\,
  2023.
DTSTART;TZID=America/Chicago:20231117T090000
DTEND;TZID=America/Chicago:20231117T094500
LOCATION:
SUMMARY:Market Express
END:VEVENT
END:VCALENDAR
