BEGIN:VCALENDAR
VERSION:2.0
PRODID:-//hastingsfamilyservice.org//NONSGML kigkonsult.se iCalcreator 2.30
 .10//
CALSCALE:GREGORIAN
METHOD:PUBLISH
UID:db3e914e-e49a-4d01-a102-bbe3d247af30
X-WR-CALDESC:Support HFS during the Great MN Give-Together! Drop off your d
 onation at HFS on November 16 or visit the link to the online donation por
 tal. Matching funds of up to $20\,000 are available and your gift can be s
 cheduled online beginning November 1. Thank you matching-fund donors: Amer
 ican Veterans Post 1\, Peg Baringer\, Stacey Baringer\, Ronald and Terry F
 erriss\, Elaine Ficker\, and Anonymous Donor.
X-WR-RELCALID:6d80e3043a3d684fb8a6253b699e48d3
X-WR-TIMEZONE:America/Chicago
BEGIN:VTIMEZONE
TZID:America/Chicago
BEGIN:STANDARD
TZNAME:CST
DTSTART:20231105T020000
TZOFFSETFROM:-0500
TZOFFSETTO:-0600
RDATE:20241103T020000
END:STANDARD
BEGIN:DAYLIGHT
TZNAME:CDT
DTSTART:20230312T020000
TZOFFSETFROM:-0600
TZOFFSETTO:-0500
RDATE:20240310T020000
RDATE:20250309T020000
END:DAYLIGHT
END:VTIMEZONE
BEGIN:VEVENT
UID:a6d13459-32cf-4207-a0c9-64e596d2b837
DTSTAMP:20260419T193108Z
DESCRIPTION:Support HFS during the Great MN Give-Together! Drop off your do
 nation at HFS on November 16 or visit the link to the online donation port
 al. Matching funds of up to $20\,000 are available and your gift can be sc
 heduled online beginning November 1. Thank you matching-fund donors: Ameri
 can Veterans Post 1\, Peg Baringer\, Stacey Baringer\, Ronald and Terry Fe
 rriss\, Elaine Ficker\, and Anonymous Donor.
DTSTART;TZID=America/Chicago:20231116T050000
DTEND;TZID=America/Chicago:20231116T050001
LOCATION:Hastings Family Service\, 301 2nd St\, Hastings\, MN 55033 US
SUMMARY:Give to the Max Day
END:VEVENT
END:VCALENDAR
