BEGIN:VCALENDAR
VERSION:2.0
PRODID:-//hastingsfamilyservice.org//NONSGML kigkonsult.se iCalcreator 2.30
 .10//
CALSCALE:GREGORIAN
METHOD:PUBLISH
UID:d2701e9a-643c-486f-97ad-627489bab385
X-WR-CALDESC:Join us for a fun Taproom Takeover to benefit Gobble Gait's 2K
  and 8K race/walk fundraiser for Hastings Family Service. It's never to ea
 rly to Get Your Gobble On! Thank you to our friends at Spiral Brewery for 
 your continued support!
X-WR-RELCALID:842e9a5f572a3f339697232b958b3167
X-WR-TIMEZONE:America/Chicago
BEGIN:VTIMEZONE
TZID:America/Chicago
BEGIN:STANDARD
TZNAME:CST
DTSTART:20231105T020000
TZOFFSETFROM:-0500
TZOFFSETTO:-0600
RDATE:20241103T020000
END:STANDARD
BEGIN:DAYLIGHT
TZNAME:CDT
DTSTART:20230312T020000
TZOFFSETFROM:-0600
TZOFFSETTO:-0500
RDATE:20240310T020000
RDATE:20250309T020000
END:DAYLIGHT
END:VTIMEZONE
BEGIN:VEVENT
UID:f08b1512-ef30-471b-99e3-3c579310c29e
DTSTAMP:20260419T194209Z
DESCRIPTION:Join us for a fun Taproom Takeover to benefit Gobble Gait's 2K 
 and 8K race/walk fundraiser for Hastings Family Service. It's never to ear
 ly to Get Your Gobble On! Thank you to our friends at Spiral Brewery for y
 our continued support!
DTSTART;TZID=America/Chicago:20231115T160000
DTEND;TZID=America/Chicago:20231115T190000
LOCATION:Spiral Brewery\, 111 2nd Street E\, Hastings\, MN 55033 US
SUMMARY:Spiral Brewery Taproom Takeover Benefiting Gobble Gait
END:VEVENT
END:VCALENDAR
