BEGIN:VCALENDAR
VERSION:2.0
PRODID:-//hastingsfamilyservice.org//NONSGML kigkonsult.se iCalcreator 2.30
 .10//
CALSCALE:GREGORIAN
METHOD:PUBLISH
UID:4d652489-94a4-463a-86f2-3e647e1f2f83
X-WR-CALDESC:Share the joy of the season by adopting a family. Get together
  with friends\, co-workers\, family\, or spread the joy by yourself by ful
 filling a family's wish list. If you are interested in adopting a family t
 o provide gifts through Project Share\, watch for a link to go live on our
  website Wednesday\, Nov 15\, at noon. Thank you!
X-WR-RELCALID:f45fa41e36dc11ff4528bf9272ca3b53
X-WR-TIMEZONE:America/Chicago
BEGIN:VTIMEZONE
TZID:America/Chicago
BEGIN:STANDARD
TZNAME:CST
DTSTART:20231105T020000
TZOFFSETFROM:-0500
TZOFFSETTO:-0600
RDATE:20241103T020000
END:STANDARD
BEGIN:DAYLIGHT
TZNAME:CDT
DTSTART:20230312T020000
TZOFFSETFROM:-0600
TZOFFSETTO:-0500
RDATE:20240310T020000
RDATE:20250309T020000
END:DAYLIGHT
END:VTIMEZONE
BEGIN:VEVENT
UID:aec16d35-4133-4a21-9c7f-163a4afd5983
DTSTAMP:20260419T192004Z
DESCRIPTION:Share the joy of the season by adopting a family. Get together 
 with friends\, co-workers\, family\, or spread the joy by yourself by fulf
 illing a family's wish list. If you are interested in adopting a family to
  provide gifts through Project Share\, watch for a link to go live on our 
 website Wednesday\, Nov 15\, at noon. Thank you!
DTSTART;TZID=America/Chicago:20231115T120000
DTEND;TZID=America/Chicago:20231115T120100
LOCATION:
SUMMARY:Project Share Adopt-a-Family Begins
END:VEVENT
END:VCALENDAR
