BEGIN:VCALENDAR
VERSION:2.0
PRODID:-//hastingsfamilyservice.org//NONSGML kigkonsult.se iCalcreator 2.30
 .10//
CALSCALE:GREGORIAN
METHOD:PUBLISH
UID:f0578c13-1532-47b5-a705-c487faea48f3
X-WR-CALDESC:Enjoy songs of the season performed by Pete Likes and local mu
 sicians. A free-will offerings will be taken to benefit Hastings Family Se
 rvice.
X-WR-RELCALID:bc9ae0cb5f0784912c2c181e1b64caef
X-WR-TIMEZONE:America/Chicago
BEGIN:VTIMEZONE
TZID:America/Chicago
BEGIN:STANDARD
TZNAME:CST
DTSTART:20231105T020000
TZOFFSETFROM:-0500
TZOFFSETTO:-0600
RDATE:20241103T020000
END:STANDARD
BEGIN:DAYLIGHT
TZNAME:CDT
DTSTART:20230312T020000
TZOFFSETFROM:-0600
TZOFFSETTO:-0500
RDATE:20240310T020000
RDATE:20250309T020000
END:DAYLIGHT
END:VTIMEZONE
BEGIN:VEVENT
UID:88b5f56b-e639-4dfc-af7b-fc99cd1920b7
DTSTAMP:20260419T191722Z
DESCRIPTION:Enjoy songs of the season performed by Pete Likes and local mus
 icians. A free-will offerings will be taken to benefit Hastings Family Ser
 vice.
DTSTART;TZID=America/Chicago:20231112T140000
DTEND;TZID=America/Chicago:20231112T150000
LOCATION:Cornerstone Bible Church\, 735 E 10th St \, Hastings\, MN 55033 US
SUMMARY:Give Thanks Concert Benefit
END:VEVENT
END:VCALENDAR
