BEGIN:VCALENDAR
VERSION:2.0
PRODID:-//hastingsfamilyservice.org//NONSGML kigkonsult.se iCalcreator 2.30
 .10//
CALSCALE:GREGORIAN
METHOD:PUBLISH
UID:237c3942-9181-4127-a13c-c3fe71e489c4
X-WR-CALDESC:Can we help with an express food pickup for you and your famil
 y? Market Express offers a drive-thru pick up on scheduled dates\; receive
  a 3- to 4-day supply of food such as meat\, bread\, dairy\, produce\, and
  dried goods (contents will vary). Advanced sign-up is required by calling
  Hastings Family Service at 651-437-7134. Sign-up deadline: 4pm on Nov 7\,
  2023.
X-WR-RELCALID:93a9ef8c8bd73c672c7e6dba48e045d3
X-WR-TIMEZONE:America/Chicago
BEGIN:VTIMEZONE
TZID:America/Chicago
BEGIN:STANDARD
TZNAME:CST
DTSTART:20231105T020000
TZOFFSETFROM:-0500
TZOFFSETTO:-0600
RDATE:20241103T020000
END:STANDARD
BEGIN:DAYLIGHT
TZNAME:CDT
DTSTART:20230312T020000
TZOFFSETFROM:-0600
TZOFFSETTO:-0500
RDATE:20240310T020000
RDATE:20250309T020000
END:DAYLIGHT
END:VTIMEZONE
BEGIN:VEVENT
UID:58e39f97-eb7d-43b6-bb7b-d632c0acf49a
DTSTAMP:20260419T191519Z
DESCRIPTION:Can we help with an express food pickup for you and your family
 ? Market Express offers a drive-thru pick up on scheduled dates\; receive 
 a 3- to 4-day supply of food such as meat\, bread\, dairy\, produce\, and 
 dried goods (contents will vary). Advanced sign-up is required by calling 
 Hastings Family Service at 651-437-7134. Sign-up deadline: 4pm on Nov 7\, 
 2023.
DTSTART;TZID=America/Chicago:20231109T160000
DTEND;TZID=America/Chicago:20231109T164500
LOCATION:
SUMMARY:Market Express
END:VEVENT
END:VCALENDAR
