BEGIN:VCALENDAR
VERSION:2.0
PRODID:-//hastingsfamilyservice.org//NONSGML kigkonsult.se iCalcreator 2.30
 .10//
CALSCALE:GREGORIAN
METHOD:PUBLISH
UID:3a2c3a2a-225d-4714-b617-0ff803225f18
X-WR-CALDESC:It's a great night to grab a delicious sub from our friends at
  Jersey Mike's! Fifty percent of in-person and online sales from 4 to 8pm 
 will benefit the Gobble Gait 2K and 8K fundraiser in support of Hastings F
 amily Service. You must mention GOBBLE GAIT when checking out for us to re
 ceive the donation. Thank you to our friends at Jersey Mike's for your con
 tinued support!
X-WR-RELCALID:b9a202f68d2413f9327550e62293b252
X-WR-TIMEZONE:America/Chicago
BEGIN:VTIMEZONE
TZID:America/Chicago
BEGIN:STANDARD
TZNAME:CST
DTSTART:20231105T020000
TZOFFSETFROM:-0500
TZOFFSETTO:-0600
RDATE:20241103T020000
END:STANDARD
BEGIN:DAYLIGHT
TZNAME:CDT
DTSTART:20230312T020000
TZOFFSETFROM:-0600
TZOFFSETTO:-0500
RDATE:20240310T020000
RDATE:20250309T020000
END:DAYLIGHT
END:VTIMEZONE
BEGIN:VEVENT
UID:a11cff14-805f-400d-80b6-789115acb87c
DTSTAMP:20260419T194630Z
DESCRIPTION:It's a great night to grab a delicious sub from our friends at 
 Jersey Mike's! Fifty percent of in-person and online sales from 4 to 8pm w
 ill benefit the Gobble Gait 2K and 8K fundraiser in support of Hastings Fa
 mily Service. You must mention GOBBLE GAIT when checking out for us to rec
 eive the donation. Thank you to our friends at Jersey Mike's for your cont
 inued support!
DTSTART;TZID=America/Chicago:20231109T160000
DTEND;TZID=America/Chicago:20231109T200000
LOCATION:Jersey Mike's Subs\, 1217 Vermillion St\, Hastings\, MN 55033 US
SUMMARY:Jersey Mike's Night Benefiting Gobble Gait
END:VEVENT
END:VCALENDAR
