BEGIN:VCALENDAR
VERSION:2.0
PRODID:-//hastingsfamilyservice.org//NONSGML kigkonsult.se iCalcreator 2.30
 .10//
CALSCALE:GREGORIAN
METHOD:PUBLISH
UID:99cf7696-97f6-445a-b53f-076a2fb41fd9
X-WR-CALDESC:Join us for this free event to learn about supports and resour
 ces for:\n\n● Childcare assistance\n● Food assistance (including SNAP and 
 NAPS)  \n● Housing and rental help\n● Medical assistance and health screen
 ings\n● Mental health supports\n● Caregiver supports\n● Senior assistance 
 and supports\n● Domestic violence support\n● Employment and training oppor
 tunities\n● Financial assistance programs\n● Assistance applying for Dakot
 a County services\n● And more!\n\nMeet with representatives from DARTS\, D
 akota County\, CAP Agency\, Dakota Child and Family Clinic\, 360 Communiti
 es\, Career Force\, and Hastings Family Service. A Spanish interpreter wil
 l be available at the event. \n\nThere will also be GIVEAWAYS and FREE MEA
 L GIVEAWAYS! All are welcome to attend. This is an open-house style event\
 , so drop in when you are able to.\n\nThis event is sponsored by the Sauer
  Family Foundation. We thank them for investing in strengthening communiti
 es!
X-WR-RELCALID:0a32fd3de19d2dce605c46b971bb119e
X-WR-TIMEZONE:America/Chicago
BEGIN:VTIMEZONE
TZID:America/Chicago
BEGIN:STANDARD
TZNAME:CST
DTSTART:20231105T020000
TZOFFSETFROM:-0500
TZOFFSETTO:-0600
RDATE:20241103T020000
END:STANDARD
BEGIN:DAYLIGHT
TZNAME:CDT
DTSTART:20230312T020000
TZOFFSETFROM:-0600
TZOFFSETTO:-0500
RDATE:20240310T020000
RDATE:20250309T020000
END:DAYLIGHT
END:VTIMEZONE
BEGIN:VEVENT
UID:8bbc17f6-59c9-46a8-8d16-7fce0f5941dd
DTSTAMP:20260419T191628Z
DESCRIPTION:Join us for this free event to learn about supports and resourc
 es for:\n\n● Childcare assistance\n● Food assistance (including SNAP and N
 APS)  \n● Housing and rental help\n● Medical assistance and health screeni
 ngs\n● Mental health supports\n● Caregiver supports\n● Senior assistance a
 nd supports\n● Domestic violence support\n● Employment and training opport
 unities\n● Financial assistance programs\n● Assistance applying for Dakota
  County services\n● And more!\n\nMeet with representatives from DARTS\, Da
 kota County\, CAP Agency\, Dakota Child and Family Clinic\, 360 Communitie
 s\, Career Force\, and Hastings Family Service. A Spanish interpreter will
  be available at the event. \n\nThere will also be GIVEAWAYS and FREE MEAL
  GIVEAWAYS! All are welcome to attend. This is an open-house style event\,
  so drop in when you are able to.\n\nThis event is sponsored by the Sauer 
 Family Foundation. We thank them for investing in strengthening communitie
 s!
DTSTART;TZID=America/Chicago:20231109T163000
DTEND;TZID=America/Chicago:20231109T190000
LOCATION:
SUMMARY:Community Resource Event
END:VEVENT
END:VCALENDAR
