BEGIN:VCALENDAR
VERSION:2.0
PRODID:-//hastingsfamilyservice.org//NONSGML kigkonsult.se iCalcreator 2.30
 .10//
CALSCALE:GREGORIAN
METHOD:PUBLISH
UID:2800999f-416d-4eea-9946-a63ab0b8c9f8
X-WR-CALDESC:Support HFS during the Great MN Give-Together! Matching funds 
 of up to $20\,000 are available and your gift can be scheduled online begi
 nning November 1. Thank you matching-fund donors: American Veterans Post 1
 \, Peg Baringer\, Stacey Baringer\, Ronald and Terry Ferriss\, Elaine Fick
 er\, and Anonymous Donor.
X-WR-RELCALID:5311aa36ef1989515714061d5b2208bd
X-WR-TIMEZONE:America/Chicago
BEGIN:VTIMEZONE
TZID:America/Chicago
BEGIN:STANDARD
TZNAME:CST
DTSTART:20221106T020000
TZOFFSETFROM:-0500
TZOFFSETTO:-0600
RDATE:20231105T020000
RDATE:20241103T020000
END:STANDARD
BEGIN:DAYLIGHT
TZNAME:CDT
DTSTART:20230312T020000
TZOFFSETFROM:-0600
TZOFFSETTO:-0500
RDATE:20240310T020000
RDATE:20250309T020000
END:DAYLIGHT
END:VTIMEZONE
BEGIN:VEVENT
UID:1b56f904-341c-4fc8-ad50-44e738b32eb2
DTSTAMP:20260419T192530Z
DESCRIPTION:Support HFS during the Great MN Give-Together! Matching funds o
 f up to $20\,000 are available and your gift can be scheduled online begin
 ning November 1. Thank you matching-fund donors: American Veterans Post 1\
 , Peg Baringer\, Stacey Baringer\, Ronald and Terry Ferriss\, Elaine Ficke
 r\, and Anonymous Donor.
DTSTART;TZID=America/Chicago:20231101T050000
DTEND;TZID=America/Chicago:20231101T050001
LOCATION:
SUMMARY:Give to the Max Day: Scheduled Giving Begins
END:VEVENT
END:VCALENDAR
