BEGIN:VCALENDAR
VERSION:2.0
PRODID:-//hastingsfamilyservice.org//NONSGML kigkonsult.se iCalcreator 2.30
 .10//
CALSCALE:GREGORIAN
METHOD:PUBLISH
UID:220086ed-63a1-4072-a95b-82498f5a0771
X-WR-CALDESC:Can we help with an express food pickup for you and your famil
 y? Market Express offers a drive-thru pick up on scheduled dates\; receive
  a 3- to 4-day supply of food such as meat\, bread\, dairy\, produce\, and
  dried goods (contents will vary). Advanced sign-up is required by calling
  Hastings Family Service at 651-437-7134. Sign-up deadline: 4pm on Oct 25\
 , 2023.
X-WR-RELCALID:d5458af24025cce6e44fee709a0ee0c8
X-WR-TIMEZONE:America/Chicago
BEGIN:VTIMEZONE
TZID:America/Chicago
BEGIN:STANDARD
TZNAME:CST
DTSTART:20221106T020000
TZOFFSETFROM:-0500
TZOFFSETTO:-0600
RDATE:20231105T020000
RDATE:20241103T020000
END:STANDARD
BEGIN:DAYLIGHT
TZNAME:CDT
DTSTART:20230312T020000
TZOFFSETFROM:-0600
TZOFFSETTO:-0500
RDATE:20240310T020000
RDATE:20250309T020000
END:DAYLIGHT
END:VTIMEZONE
BEGIN:VEVENT
UID:18cb0f2c-30ed-4bb7-bad6-5e62dc29d20c
DTSTAMP:20260419T212011Z
DESCRIPTION:Can we help with an express food pickup for you and your family
 ? Market Express offers a drive-thru pick up on scheduled dates\; receive 
 a 3- to 4-day supply of food such as meat\, bread\, dairy\, produce\, and 
 dried goods (contents will vary). Advanced sign-up is required by calling 
 Hastings Family Service at 651-437-7134. Sign-up deadline: 4pm on Oct 25\,
  2023.
DTSTART;TZID=America/Chicago:20231027T090000
DTEND;TZID=America/Chicago:20231027T094500
LOCATION:
SUMMARY:Market Express
END:VEVENT
END:VCALENDAR
