BEGIN:VCALENDAR
VERSION:2.0
PRODID:-//hastingsfamilyservice.org//NONSGML kigkonsult.se iCalcreator 2.30
 .10//
CALSCALE:GREGORIAN
METHOD:PUBLISH
UID:c4de8c26-ab9b-4030-af81-dbccf9de7317
X-WR-CALDESC:Dress the family in costume and enjoy activities at this fun H
 alloween event coordinated by the Hastings Parks and Recreation Department
  and Hastings Community Education. They will be collecting a non-perishabl
 e food item supporting Hastings Family Service for the cost of admission. 
 This event is recommended for families with youth ages 12 and under. Thank
  you to our community partners for supporting the Market Food Shelf progra
 ms at HFS!
X-WR-RELCALID:7e3ef62043c5ef2ca005df3f1329e4f3
X-WR-TIMEZONE:America/Chicago
BEGIN:VTIMEZONE
TZID:America/Chicago
BEGIN:STANDARD
TZNAME:CST
DTSTART:20221106T020000
TZOFFSETFROM:-0500
TZOFFSETTO:-0600
RDATE:20231105T020000
RDATE:20241103T020000
END:STANDARD
BEGIN:DAYLIGHT
TZNAME:CDT
DTSTART:20230312T020000
TZOFFSETFROM:-0600
TZOFFSETTO:-0500
RDATE:20240310T020000
RDATE:20250309T020000
END:DAYLIGHT
END:VTIMEZONE
BEGIN:VEVENT
UID:2b798b8a-6347-486d-9679-e79586e01b7b
DTSTAMP:20260419T210512Z
DESCRIPTION:Dress the family in costume and enjoy activities at this fun Ha
 lloween event coordinated by the Hastings Parks and Recreation Department 
 and Hastings Community Education. They will be collecting a non-perishable
  food item supporting Hastings Family Service for the cost of admission. T
 his event is recommended for families with youth ages 12 and under. Thank 
 you to our community partners for supporting the Market Food Shelf program
 s at HFS!
DTSTART;TZID=America/Chicago:20231027T180000
DTEND;TZID=America/Chicago:20231027T200000
LOCATION:Hastings High School\, 200 General Sieben Drive\, Hastings\, MN 55
 033 US
SUMMARY:Community Halloween Party Non-Perishable Food Collection
END:VEVENT
END:VCALENDAR
