BEGIN:VCALENDAR
VERSION:2.0
PRODID:-//hastingsfamilyservice.org//NONSGML kigkonsult.se iCalcreator 2.30
 .10//
CALSCALE:GREGORIAN
METHOD:PUBLISH
UID:a49a08d0-89aa-4024-bfe1-6e29cdda9eda
X-WR-CALDESC:If you or someone you know could benefit from holiday food and
 /or gift assistance\, families living in ISD 200 can begin calling to sche
 dule a Project Share registration appointment on Monday\, October 9. Appoi
 ntments will be available in-person and over the phone Oct 24 - Dec 5. Fam
 ilies are encouraged to register as early as possible! Please call HFS at 
 651-437-7134 to schedule.
X-WR-RELCALID:a12ce94bb136db9952d32d96a851d889
X-WR-TIMEZONE:America/Chicago
BEGIN:VTIMEZONE
TZID:America/Chicago
BEGIN:STANDARD
TZNAME:CST
DTSTART:20221106T020000
TZOFFSETFROM:-0500
TZOFFSETTO:-0600
RDATE:20231105T020000
RDATE:20241103T020000
END:STANDARD
BEGIN:DAYLIGHT
TZNAME:CDT
DTSTART:20230312T020000
TZOFFSETFROM:-0600
TZOFFSETTO:-0500
RDATE:20240310T020000
RDATE:20250309T020000
END:DAYLIGHT
END:VTIMEZONE
BEGIN:VEVENT
UID:fb377b74-0e74-435f-a908-ad07d40613d2
DTSTAMP:20260419T212341Z
DESCRIPTION:If you or someone you know could benefit from holiday food and/
 or gift assistance\, families living in ISD 200 can begin calling to sched
 ule a Project Share registration appointment on Monday\, October 9. Appoin
 tments will be available in-person and over the phone Oct 24 - Dec 5. Fami
 lies are encouraged to register as early as possible! Please call HFS at 6
 51-437-7134 to schedule.
DTSTART;TZID=America/Chicago:20231009T000000
DTEND;TZID=America/Chicago:20231009T235900
LOCATION:
SUMMARY:Families May Begin Calling to Schedule a Project Share Appointment
END:VEVENT
END:VCALENDAR
