BEGIN:VCALENDAR
VERSION:2.0
PRODID:-//hastingsfamilyservice.org//NONSGML kigkonsult.se iCalcreator 2.30
 .10//
CALSCALE:GREGORIAN
METHOD:PUBLISH
UID:4a7c2602-fe82-4d79-8656-1302b7ab868f
X-WR-CALDESC:Can we help with an express food pickup for you and your famil
 y? Market Express offers a drive-thru pick up on scheduled dates\; receive
  a 3- to 4-day supply of food such as meat\, bread\, dairy\, produce\, and
  dried goods (contents will vary). Advanced sign-up is required by calling
  Hastings Family Service at 651-437-7134. Sign-up deadline: 4pm on Sept 27
 \, 2023.
X-WR-RELCALID:e44eb0fea8cd81fca9693cd62eea4cdb
X-WR-TIMEZONE:America/Chicago
BEGIN:VTIMEZONE
TZID:America/Chicago
BEGIN:STANDARD
TZNAME:CST
DTSTART:20221106T020000
TZOFFSETFROM:-0500
TZOFFSETTO:-0600
RDATE:20231105T020000
RDATE:20241103T020000
END:STANDARD
BEGIN:DAYLIGHT
TZNAME:CDT
DTSTART:20230312T020000
TZOFFSETFROM:-0600
TZOFFSETTO:-0500
RDATE:20240310T020000
RDATE:20250309T020000
END:DAYLIGHT
END:VTIMEZONE
BEGIN:VEVENT
UID:ff747520-2e9f-4c1d-b1af-70b54b9ef535
DTSTAMP:20260419T232506Z
DESCRIPTION:Can we help with an express food pickup for you and your family
 ? Market Express offers a drive-thru pick up on scheduled dates\; receive 
 a 3- to 4-day supply of food such as meat\, bread\, dairy\, produce\, and 
 dried goods (contents will vary). Advanced sign-up is required by calling 
 Hastings Family Service at 651-437-7134. Sign-up deadline: 4pm on Sept 27\
 , 2023.
DTSTART;TZID=America/Chicago:20230929T090000
DTEND;TZID=America/Chicago:20230929T094500
LOCATION:301 Second St E\, Hastings\, MN 55033 US
SUMMARY:Market Express
END:VEVENT
END:VCALENDAR
