BEGIN:VCALENDAR
VERSION:2.0
PRODID:-//hastingsfamilyservice.org//NONSGML kigkonsult.se iCalcreator 2.30
 .10//
CALSCALE:GREGORIAN
METHOD:PUBLISH
UID:2bacd036-f360-4a52-a9b5-6de771e9b3a2
X-WR-CALDESC:Cheer on Hastings High School's PowerderPuff football team whi
 le supporting HFS! Donate a non-perishable food item to benefit the Market
  Food Shelf programs for free entry. Thank you\, Hastings High School stud
 ents\, for thinking of neighbors and supporting HFS during this fun homeco
 ming week!
X-WR-RELCALID:b9a4126dc71addcd4516961c0ebcc1ef
X-WR-TIMEZONE:America/Chicago
BEGIN:VTIMEZONE
TZID:America/Chicago
BEGIN:STANDARD
TZNAME:CST
DTSTART:20221106T020000
TZOFFSETFROM:-0500
TZOFFSETTO:-0600
RDATE:20231105T020000
RDATE:20241103T020000
END:STANDARD
BEGIN:DAYLIGHT
TZNAME:CDT
DTSTART:20230312T020000
TZOFFSETFROM:-0600
TZOFFSETTO:-0500
RDATE:20240310T020000
RDATE:20250309T020000
END:DAYLIGHT
END:VTIMEZONE
BEGIN:VEVENT
UID:97b6f7de-4648-420f-a1ed-19271670972a
DTSTAMP:20260420T030913Z
DESCRIPTION:Cheer on Hastings High School's PowerderPuff football team whil
 e supporting HFS! Donate a non-perishable food item to benefit the Market 
 Food Shelf programs for free entry. Thank you\, Hastings High School stude
 nts\, for thinking of neighbors and supporting HFS during this fun homecom
 ing week!
DTSTART;TZID=America/Chicago:20230927T190000
DTEND;TZID=America/Chicago:20230927T203000
LOCATION:Todd Field\, 101 10th St W\, Hastings\, MN 55033 US
SUMMARY:Hastings High School PowderPuff Game Non-Perishable Food Collection
END:VEVENT
END:VCALENDAR
