BEGIN:VCALENDAR
VERSION:2.0
PRODID:-//hastingsfamilyservice.org//NONSGML kigkonsult.se iCalcreator 2.30
 .10//
CALSCALE:GREGORIAN
METHOD:PUBLISH
UID:0339bc6b-ee31-47c9-82d8-6d2f09eefc23
X-WR-CALDESC:Visit our table at the Hastings Community Health Fair to learn
  how HFS supports community health and wellness through our many services 
 and programs. We also offer a wide variety of volunteer opportunities to e
 xplore. We hope to see you there!
X-WR-RELCALID:6cdec61ec963028aad139ebbcc370756
X-WR-TIMEZONE:America/Chicago
BEGIN:VTIMEZONE
TZID:America/Chicago
BEGIN:STANDARD
TZNAME:CST
DTSTART:20221106T020000
TZOFFSETFROM:-0500
TZOFFSETTO:-0600
RDATE:20231105T020000
RDATE:20241103T020000
END:STANDARD
BEGIN:DAYLIGHT
TZNAME:CDT
DTSTART:20230312T020000
TZOFFSETFROM:-0600
TZOFFSETTO:-0500
RDATE:20240310T020000
RDATE:20250309T020000
END:DAYLIGHT
END:VTIMEZONE
BEGIN:VEVENT
UID:2a2263b2-97c8-4d77-8fec-ac52829d8aa8
DTSTAMP:20260419T231543Z
DESCRIPTION:Visit our table at the Hastings Community Health Fair to learn 
 how HFS supports community health and wellness through our many services a
 nd programs. We also offer a wide variety of volunteer opportunities to ex
 plore. We hope to see you there!
DTSTART;TZID=America/Chicago:20230923T090000
DTEND;TZID=America/Chicago:20230923T120000
LOCATION:Hastings High School\, 200 General Sieben Dr.\, Hastings\, MN 5503
 3 US
SUMMARY:Hastings Community Health Fair
END:VEVENT
END:VCALENDAR
