BEGIN:VCALENDAR
VERSION:2.0
PRODID:-//hastingsfamilyservice.org//NONSGML kigkonsult.se iCalcreator 2.30
 .10//
CALSCALE:GREGORIAN
METHOD:PUBLISH
UID:da0f5348-610c-43c9-93ea-bb87d8a02e81
X-WR-CALDESC:Can we help with an express food pickup for you and your famil
 y? Market Express offers a drive-thru pick up on scheduled dates\; receive
  a 3- to 4-day supply of food such as meat\, bread\, dairy\, produce\, and
  dried goods (contents will vary). Advanced sign-up is required by calling
  Hastings Family Service at 651-437-7134. Sign-up deadline: 4pm on Sept 19
 \, 2023.
X-WR-RELCALID:876bef2316157327543e06e43a00f2bf
X-WR-TIMEZONE:America/Chicago
BEGIN:VTIMEZONE
TZID:America/Chicago
BEGIN:STANDARD
TZNAME:CST
DTSTART:20221106T020000
TZOFFSETFROM:-0500
TZOFFSETTO:-0600
RDATE:20231105T020000
RDATE:20241103T020000
END:STANDARD
BEGIN:DAYLIGHT
TZNAME:CDT
DTSTART:20230312T020000
TZOFFSETFROM:-0600
TZOFFSETTO:-0500
RDATE:20240310T020000
RDATE:20250309T020000
END:DAYLIGHT
END:VTIMEZONE
BEGIN:VEVENT
UID:b14d769e-7c2e-4e91-b90a-a66b326cc594
DTSTAMP:20260419T231904Z
DESCRIPTION:Can we help with an express food pickup for you and your family
 ? Market Express offers a drive-thru pick up on scheduled dates\; receive 
 a 3- to 4-day supply of food such as meat\, bread\, dairy\, produce\, and 
 dried goods (contents will vary). Advanced sign-up is required by calling 
 Hastings Family Service at 651-437-7134. Sign-up deadline: 4pm on Sept 19\
 , 2023.
DTSTART;TZID=America/Chicago:20230921T160000
DTEND;TZID=America/Chicago:20230921T164500
LOCATION:301 Second St E\, Hastings\, MN 55033 US
SUMMARY:Market Express
END:VEVENT
END:VCALENDAR
