BEGIN:VCALENDAR
VERSION:2.0
PRODID:-//hastingsfamilyservice.org//NONSGML kigkonsult.se iCalcreator 2.30
 .10//
CALSCALE:GREGORIAN
METHOD:PUBLISH
UID:a1160bf1-202a-4b21-bf02-8c23c9ea9a70
X-WR-CALDESC:We're participating in the myWalgreens donation program! You c
 an donate your myWalgreens cash rewards to HFS now through November 30\, 2
 023. At Walgreens\, you’ll earn unlimited 1% Walgreens Cash rewards when y
 ou shop and you can choose how much to donate. It’s that easy. Whether you
 ’d like to contribute $1\, $5\, or more of your Walgreens Cash rewards you
 ’ll be making a big difference. It really adds up! You can join myWalgreen
 s by signing up at myWalgreens.com\, in the Walgreens App\, or in their st
 ores at checkout. It's free\, fast and easy!
X-WR-RELCALID:c62c673148da6e6b9a7b69220be05ecb
X-WR-TIMEZONE:America/Chicago
BEGIN:VTIMEZONE
TZID:America/Chicago
BEGIN:STANDARD
TZNAME:CST
DTSTART:20221106T020000
TZOFFSETFROM:-0500
TZOFFSETTO:-0600
RDATE:20231105T020000
RDATE:20241103T020000
END:STANDARD
BEGIN:DAYLIGHT
TZNAME:CDT
DTSTART:20230312T020000
TZOFFSETFROM:-0600
TZOFFSETTO:-0500
RDATE:20240310T020000
END:DAYLIGHT
END:VTIMEZONE
BEGIN:VEVENT
UID:363d832c-9a45-444d-a64f-ec32569436e4
DTSTAMP:20260419T231937Z
DESCRIPTION:We're participating in the myWalgreens donation program! You ca
 n donate your myWalgreens cash rewards to HFS now through November 30\, 20
 23. At Walgreens\, you’ll earn unlimited 1% Walgreens Cash rewards when yo
 u shop and you can choose how much to donate. It’s that easy. Whether you’
 d like to contribute $1\, $5\, or more of your Walgreens Cash rewards you’
 ll be making a big difference. It really adds up! You can join myWalgreens
  by signing up at myWalgreens.com\, in the Walgreens App\, or in their sto
 res at checkout. It's free\, fast and easy!
DTSTART;TZID=America/Chicago:20230906T123000
DTEND;TZID=America/Chicago:20230906T235900
LOCATION:https://www.walgreens.com/topic/promotion/mywalgreens.jsp
SUMMARY:Donate Your myWalgreens Cash Rewards Begins
END:VEVENT
END:VCALENDAR
