BEGIN:VCALENDAR
VERSION:2.0
PRODID:-//hastingsfamilyservice.org//NONSGML kigkonsult.se iCalcreator 2.30
 .10//
CALSCALE:GREGORIAN
METHOD:PUBLISH
UID:309064b7-d402-418b-9b21-2eb3b54fce92
X-WR-CALDESC:
X-WR-RELCALID:9f9157c362e5a9cccbde7bde3e9dcdb6
X-WR-TIMEZONE:America/Chicago
BEGIN:VTIMEZONE
TZID:America/Chicago
BEGIN:STANDARD
TZNAME:CST
DTSTART:20221106T020000
TZOFFSETFROM:-0500
TZOFFSETTO:-0600
RDATE:20231105T020000
END:STANDARD
BEGIN:DAYLIGHT
TZNAME:CDT
DTSTART:20230312T020000
TZOFFSETFROM:-0600
TZOFFSETTO:-0500
RDATE:20240310T020000
END:DAYLIGHT
END:VTIMEZONE
BEGIN:VEVENT
UID:8eda758f-a712-4104-a1c5-bb35ca4cb87f
DTSTAMP:20260420T081004Z
DESCRIPTION:
DTSTART;TZID=America/Chicago:20230403T170000
DTEND;TZID=America/Chicago:20230403T190000
LOCATION:1713 Market Blvd\, \, Hastings\, MN 55033 US
SUMMARY:Dinning Out to Support HFS: Culver's
END:VEVENT
END:VCALENDAR
