BEGIN:VCALENDAR
VERSION:2.0
PRODID:-//hastingsfamilyservice.org//NONSGML kigkonsult.se iCalcreator 2.30
 .10//
CALSCALE:GREGORIAN
METHOD:PUBLISH
UID:2d942918-9c52-4959-827c-90b2a28f43b5
X-WR-CALDESC:Monday\, March 27th\, 4:30 - 7:30pm\nSEAS Mother Seton Hall\nJ
 oin us in celebrating the 26th Annual Hastings Tastings! Sample delicious 
 food and drinks from local establishments.\n\nHastings Tastings is our sig
 nature event supporting MN FoodShare\, a month of generosity to help Minne
 sota food shelves restock their supplies.\n\nAll donations of food and fun
 ds are proportionately matched by MN FoodShare.\n\nTickets now available a
 t Cub Foods\, YMCA\, HFS donation center or online.  Tickets are $35 and l
 imited number of tickets available.  \n\n\nIf you are a food and/or bevera
 ge establishment wanting to be part of this event\, please contact Kelly C
 arter\nat 651-437-7134.\n
X-WR-RELCALID:c72a0bea21355a38d5b905eb6e32b47d
X-WR-TIMEZONE:America/Chicago
BEGIN:VTIMEZONE
TZID:America/Chicago
BEGIN:STANDARD
TZNAME:CST
DTSTART:20221106T020000
TZOFFSETFROM:-0500
TZOFFSETTO:-0600
RDATE:20231105T020000
END:STANDARD
BEGIN:DAYLIGHT
TZNAME:CDT
DTSTART:20230312T020000
TZOFFSETFROM:-0600
TZOFFSETTO:-0500
RDATE:20240310T020000
END:DAYLIGHT
END:VTIMEZONE
BEGIN:VEVENT
UID:6a6a0519-4b6a-423b-9cdb-a599f567d3f0
DTSTAMP:20260422T084050Z
DESCRIPTION:Monday\, March 27th\, 4:30 - 7:30pm\nSEAS Mother Seton Hall\nJo
 in us in celebrating the 26th Annual Hastings Tastings! Sample delicious f
 ood and drinks from local establishments.\n\nHastings Tastings is our sign
 ature event supporting MN FoodShare\, a month of generosity to help Minnes
 ota food shelves restock their supplies.\n\nAll donations of food and fund
 s are proportionately matched by MN FoodShare.\n\nTickets now available at
  Cub Foods\, YMCA\, HFS donation center or online.  Tickets are $35 and li
 mited number of tickets available.  \n\n\nIf you are a food and/or beverag
 e establishment wanting to be part of this event\, please contact Kelly Ca
 rter\nat 651-437-7134.\n
DTSTART;TZID=America/Chicago:20230327T163000
DTEND;TZID=America/Chicago:20230327T193000
LOCATION:2035 15th St W\, \, Hastings\, MN 55033 US
SUMMARY:Hastings Tastings
END:VEVENT
END:VCALENDAR
