BEGIN:VCALENDAR
VERSION:2.0
PRODID:-//hastingsfamilyservice.org//NONSGML kigkonsult.se iCalcreator 2.30
 .10//
CALSCALE:GREGORIAN
METHOD:PUBLISH
UID:73792261-34e2-4d6d-925b-6d680929f7e5
X-WR-CALDESC:Join HFS at Spiral Brewery on Thursday\, March 23rd from 5-8 p
 m for a taproom takeover!  $1 of each beer sold during this time will bene
 fit HFS and will be proportionately MATCHED by MN FoodShare.
X-WR-RELCALID:4ffee1334e5689add31cc2957fdecfd5
X-WR-TIMEZONE:America/Chicago
BEGIN:VTIMEZONE
TZID:America/Chicago
BEGIN:STANDARD
TZNAME:CST
DTSTART:20221106T020000
TZOFFSETFROM:-0500
TZOFFSETTO:-0600
RDATE:20231105T020000
END:STANDARD
BEGIN:DAYLIGHT
TZNAME:CDT
DTSTART:20230312T020000
TZOFFSETFROM:-0600
TZOFFSETTO:-0500
RDATE:20240310T020000
END:DAYLIGHT
END:VTIMEZONE
BEGIN:VEVENT
UID:3fce8ab6-1bdb-446a-a87b-d58a72f48fef
DTSTAMP:20260422T085142Z
DESCRIPTION:Join HFS at Spiral Brewery on Thursday\, March 23rd from 5-8 pm
  for a taproom takeover!  $1 of each beer sold during this time will benef
 it HFS and will be proportionately MATCHED by MN FoodShare.
DTSTART;TZID=America/Chicago:20230323T170000
DTEND;TZID=America/Chicago:20230323T200000
LOCATION:111 2nd St E\, Hastings\, MN 55033 US
SUMMARY:Taproom Takeover at Spiral Brewery
END:VEVENT
END:VCALENDAR
