BEGIN:VCALENDAR
VERSION:2.0
PRODID:-//hastingsfamilyservice.org//NONSGML kigkonsult.se iCalcreator 2.30
 .10//
CALSCALE:GREGORIAN
METHOD:PUBLISH
UID:32266dd9-1060-4792-a219-57fe25fe33e0
X-WR-CALDESC:Grab a sub at Jersey Mike's on Thursday\, March 23rd\, 4-8pm a
 nd mention HFS when you order online or in-person.  50% of sales benefit H
 FS and will be proportionately MATCHED by MN FoodShare!
X-WR-RELCALID:fb4c05e4dcf0f1b95e087183161c38b1
X-WR-TIMEZONE:America/Chicago
BEGIN:VTIMEZONE
TZID:America/Chicago
BEGIN:STANDARD
TZNAME:CST
DTSTART:20221106T020000
TZOFFSETFROM:-0500
TZOFFSETTO:-0600
RDATE:20231105T020000
END:STANDARD
BEGIN:DAYLIGHT
TZNAME:CDT
DTSTART:20230312T020000
TZOFFSETFROM:-0600
TZOFFSETTO:-0500
RDATE:20240310T020000
END:DAYLIGHT
END:VTIMEZONE
BEGIN:VEVENT
UID:db314ca1-10c4-4056-bb38-633b41344fc8
DTSTAMP:20260422T084356Z
DESCRIPTION:Grab a sub at Jersey Mike's on Thursday\, March 23rd\, 4-8pm an
 d mention HFS when you order online or in-person.  50% of sales benefit HF
 S and will be proportionately MATCHED by MN FoodShare!
DTSTART;TZID=America/Chicago:20230323T160000
DTEND;TZID=America/Chicago:20230323T200000
LOCATION:1217 Vermillion St \, Hastings\, MN 55033 US
SUMMARY:Dinning Out to Support HFS: Jersey Mike's
END:VEVENT
END:VCALENDAR
