BEGIN:VCALENDAR
VERSION:2.0
PRODID:-//hastingsfamilyservice.org//NONSGML kigkonsult.se iCalcreator 2.30
 .10//
CALSCALE:GREGORIAN
METHOD:PUBLISH
UID:dc8b7722-25c3-4e92-9a06-53d3cfab2cd9
X-WR-CALDESC:Market Express is an express drive-thru food pick up on schedu
 led dates throughout the month. Market Express is a 3-4 day supply of food
  and may include: meat\, bread\, dairy\, produce\, and dried goods (conten
 ts will vary). Advance sign up is required!  Deadline to register is March
   14th at 4pm.
X-WR-RELCALID:7e604b9fc92e7420f6e5276ac0ec5b5c
X-WR-TIMEZONE:America/Chicago
BEGIN:VTIMEZONE
TZID:America/Chicago
BEGIN:STANDARD
TZNAME:CST
DTSTART:20221106T020000
TZOFFSETFROM:-0500
TZOFFSETTO:-0600
RDATE:20231105T020000
END:STANDARD
BEGIN:DAYLIGHT
TZNAME:CDT
DTSTART:20230312T020000
TZOFFSETFROM:-0600
TZOFFSETTO:-0500
RDATE:20240310T020000
END:DAYLIGHT
END:VTIMEZONE
BEGIN:VEVENT
UID:a91bede8-c098-4b9c-a6c5-785cb31cafe9
DTSTAMP:20260424T085618Z
DESCRIPTION:Market Express is an express drive-thru food pick up on schedul
 ed dates throughout the month. Market Express is a 3-4 day supply of food 
 and may include: meat\, bread\, dairy\, produce\, and dried goods (content
 s will vary). Advance sign up is required!  Deadline to register is March 
  14th at 4pm.
DTSTART;TZID=America/Chicago:20230316T160000
DTEND;TZID=America/Chicago:20230316T164500
LOCATION:
SUMMARY:Market Express
END:VEVENT
END:VCALENDAR
