BEGIN:VCALENDAR
VERSION:2.0
PRODID:-//hastingsfamilyservice.org//NONSGML kigkonsult.se iCalcreator 2.30
 .10//
CALSCALE:GREGORIAN
METHOD:PUBLISH
UID:4aa62098-f888-4c46-a33b-2005aa61197a
X-WR-CALDESC:Join HFS at Spiral Brewery on Thursday\, March 9th from 4-7pm 
 for a taproom takeover!  $1 of each beer sold during this time will benefi
 t HFS and will be proportionately MATCHED by MN FoodShare.
X-WR-RELCALID:d282cc6ea3a27f6edd70c9ba004db060
X-WR-TIMEZONE:America/Chicago
BEGIN:VTIMEZONE
TZID:America/Chicago
BEGIN:STANDARD
TZNAME:CST
DTSTART:20221106T020000
TZOFFSETFROM:-0500
TZOFFSETTO:-0600
RDATE:20231105T020000
END:STANDARD
BEGIN:DAYLIGHT
TZNAME:CDT
DTSTART:20220313T020000
TZOFFSETFROM:-0600
TZOFFSETTO:-0500
RDATE:20230312T020000
RDATE:20240310T020000
END:DAYLIGHT
END:VTIMEZONE
BEGIN:VEVENT
UID:70b5602c-cf1a-483d-ab74-86f92d33e485
DTSTAMP:20260422T085953Z
DESCRIPTION:Join HFS at Spiral Brewery on Thursday\, March 9th from 4-7pm f
 or a taproom takeover!  $1 of each beer sold during this time will benefit
  HFS and will be proportionately MATCHED by MN FoodShare.
DTSTART;TZID=America/Chicago:20230309T160000
DTEND;TZID=America/Chicago:20230309T190000
LOCATION:
SUMMARY:Taproom Takeover at Spiral Brewery
END:VEVENT
END:VCALENDAR
