BEGIN:VCALENDAR
VERSION:2.0
PRODID:-//hastingsfamilyservice.org//NONSGML kigkonsult.se iCalcreator 2.30
 .10//
CALSCALE:GREGORIAN
METHOD:PUBLISH
UID:3ab56b90-b2a4-420e-9f38-960b93b71aa4
X-WR-CALDESC:Market Express is an express drive-thru food pick up on schedu
 led dates throughout the month. Market Express is a 3-4 day supply of food
  and may include: meat\, bread\, dairy\, produce\, and dried goods (conten
 ts will vary). Advance sign up is required!  Deadline to register is Feb. 
 22nd at 4pm.
X-WR-RELCALID:3bf529a6f0c3a006d7655755c8dcdeca
X-WR-TIMEZONE:America/Chicago
BEGIN:VTIMEZONE
TZID:America/Chicago
BEGIN:STANDARD
TZNAME:CST
DTSTART:20221106T020000
TZOFFSETFROM:-0500
TZOFFSETTO:-0600
RDATE:20231105T020000
END:STANDARD
BEGIN:DAYLIGHT
TZNAME:CDT
DTSTART:20220313T020000
TZOFFSETFROM:-0600
TZOFFSETTO:-0500
RDATE:20230312T020000
RDATE:20240310T020000
END:DAYLIGHT
END:VTIMEZONE
BEGIN:VEVENT
UID:48180ee1-bcc5-42e4-989f-4a59352346e5
DTSTAMP:20260422T104330Z
DESCRIPTION:Market Express is an express drive-thru food pick up on schedul
 ed dates throughout the month. Market Express is a 3-4 day supply of food 
 and may include: meat\, bread\, dairy\, produce\, and dried goods (content
 s will vary). Advance sign up is required!  Deadline to register is Feb. 2
 2nd at 4pm.
DTSTART;TZID=America/Chicago:20230224T090000
DTEND;TZID=America/Chicago:20230224T094500
LOCATION:
SUMMARY:Market Express
END:VEVENT
END:VCALENDAR
