BEGIN:VCALENDAR
VERSION:2.0
PRODID:-//hastingsfamilyservice.org//NONSGML kigkonsult.se iCalcreator 2.30
 .10//
CALSCALE:GREGORIAN
METHOD:PUBLISH
UID:e54b9618-c47a-4307-9048-56f8714499d9
X-WR-CALDESC:Market Express is an express drive-thru food pick up on schedu
 led dates throughout the month. Market Express is a 3-4 day supply of food
  and may include: meat\, bread\, dairy\, produce\, and dried goods (conten
 ts will vary). Advance sign up is required!  Deadline for registration is 
 January 17th at 4pm.
X-WR-RELCALID:26b9e386f0964c1a80dfd9a0ca2be9ed
X-WR-TIMEZONE:America/Chicago
BEGIN:VTIMEZONE
TZID:America/Chicago
BEGIN:STANDARD
TZNAME:CST
DTSTART:20221106T020000
TZOFFSETFROM:-0500
TZOFFSETTO:-0600
RDATE:20231105T020000
END:STANDARD
BEGIN:DAYLIGHT
TZNAME:CDT
DTSTART:20220313T020000
TZOFFSETFROM:-0600
TZOFFSETTO:-0500
RDATE:20230312T020000
RDATE:20240310T020000
END:DAYLIGHT
END:VTIMEZONE
BEGIN:VEVENT
UID:2e83b56a-6473-4330-aebe-9ec1227a0e26
DTSTAMP:20260422T120028Z
DESCRIPTION:Market Express is an express drive-thru food pick up on schedul
 ed dates throughout the month. Market Express is a 3-4 day supply of food 
 and may include: meat\, bread\, dairy\, produce\, and dried goods (content
 s will vary). Advance sign up is required!  Deadline for registration is J
 anuary 17th at 4pm.
DTSTART;TZID=America/Chicago:20230119T160000
DTEND;TZID=America/Chicago:20230119T164500
LOCATION:
SUMMARY:Market Express
END:VEVENT
END:VCALENDAR
