BEGIN:VCALENDAR
VERSION:2.0
PRODID:-//hastingsfamilyservice.org//NONSGML kigkonsult.se iCalcreator 2.30
 .10//
CALSCALE:GREGORIAN
METHOD:PUBLISH
UID:4c432b16-70e4-4f6c-a300-8a7e73e421bc
X-WR-CALDESC:HFS will be closing early for a staff meeting.  We are excited
  to meet and plan out all the amazing things for 2023.
X-WR-RELCALID:fc812f1ff04c03929fb72ce1d1e7a3d2
X-WR-TIMEZONE:America/Chicago
BEGIN:VTIMEZONE
TZID:America/Chicago
BEGIN:STANDARD
TZNAME:CST
DTSTART:20221106T020000
TZOFFSETFROM:-0500
TZOFFSETTO:-0600
RDATE:20231105T020000
END:STANDARD
BEGIN:DAYLIGHT
TZNAME:CDT
DTSTART:20220313T020000
TZOFFSETFROM:-0600
TZOFFSETTO:-0500
RDATE:20230312T020000
RDATE:20240310T020000
END:DAYLIGHT
END:VTIMEZONE
BEGIN:VEVENT
UID:7315fd5e-e084-47e1-a005-9e00bb38aa37
DTSTAMP:20260422T120213Z
DESCRIPTION:HFS will be closing early for a staff meeting.  We are excited 
 to meet and plan out all the amazing things for 2023.
DTSTART;TZID=America/Chicago:20230110T090000
DTEND;TZID=America/Chicago:20230110T123000
LOCATION:
SUMMARY:Modified Hours Open 9am-Noon
END:VEVENT
END:VCALENDAR
