BEGIN:VCALENDAR
VERSION:2.0
PRODID:-//hastingsfamilyservice.org//NONSGML kigkonsult.se iCalcreator 2.30
 .10//
CALSCALE:GREGORIAN
METHOD:PUBLISH
UID:6393f309-adc3-4c89-93cf-6f891ad77e64
X-WR-CALDESC:
X-WR-RELCALID:fe22e8c6b0ed1e78413ea8dc9dfd90f4
X-WR-TIMEZONE:America/Chicago
BEGIN:VTIMEZONE
TZID:America/Chicago
BEGIN:STANDARD
TZNAME:CST
DTSTART:20221106T020000
TZOFFSETFROM:-0500
TZOFFSETTO:-0600
RDATE:20231105T020000
END:STANDARD
BEGIN:DAYLIGHT
TZNAME:CDT
DTSTART:20220313T020000
TZOFFSETFROM:-0600
TZOFFSETTO:-0500
RDATE:20230312T020000
RDATE:20240310T020000
END:DAYLIGHT
END:VTIMEZONE
BEGIN:VEVENT
UID:7b78a30e-b432-4c13-9313-c3bd180e70ad
DTSTAMP:20260422T121952Z
DESCRIPTION:
DTSTART;TZID=America/Chicago:20230104T090000
DTEND;TZID=America/Chicago:20230104T160000
LOCATION:
SUMMARY:SNOW DAY
END:VEVENT
END:VCALENDAR
