BEGIN:VCALENDAR
VERSION:2.0
PRODID:-//hastingsfamilyservice.org//NONSGML kigkonsult.se iCalcreator 2.30
 .10//
CALSCALE:GREGORIAN
METHOD:PUBLISH
UID:b24d3a33-b08c-4091-a2ec-5fdb14f3ecf1
X-WR-CALDESC:
X-WR-RELCALID:e41c0a8e0f0f0bc24613814ea2688c45
X-WR-TIMEZONE:America/Chicago
BEGIN:VTIMEZONE
TZID:America/Chicago
BEGIN:STANDARD
TZNAME:CST
DTSTART:20221106T020000
TZOFFSETFROM:-0500
TZOFFSETTO:-0600
RDATE:20231105T020000
END:STANDARD
BEGIN:DAYLIGHT
TZNAME:CDT
DTSTART:20220313T020000
TZOFFSETFROM:-0600
TZOFFSETTO:-0500
RDATE:20230312T020000
RDATE:20240310T020000
END:DAYLIGHT
END:VTIMEZONE
BEGIN:VEVENT
UID:4d0ad364-3504-40b8-b361-daa25e777f93
DTSTAMP:20260422T154310Z
DESCRIPTION:
DTSTART;TZID=America/Chicago:20221124T000000
DTEND;TZID=America/Chicago:20221125T235900
LOCATION:
SUMMARY:Hastings Family Service Closed
END:VEVENT
END:VCALENDAR
