BEGIN:VCALENDAR
VERSION:2.0
PRODID:-//hastingsfamilyservice.org//NONSGML kigkonsult.se iCalcreator 2.30
 .10//
CALSCALE:GREGORIAN
METHOD:PUBLISH
UID:c540df28-b1ae-4604-ac5f-e682b242bb21
X-WR-CALDESC:8K and 2K run/walk benefitting Hastings Family Service on Than
 ksgiving morning in Downtown Hastings.
X-WR-RELCALID:a9d648329a670b08a9f85d7b277765a4
X-WR-TIMEZONE:America/Chicago
BEGIN:VTIMEZONE
TZID:America/Chicago
BEGIN:STANDARD
TZNAME:CST
DTSTART:20221106T020000
TZOFFSETFROM:-0500
TZOFFSETTO:-0600
RDATE:20231105T020000
END:STANDARD
BEGIN:DAYLIGHT
TZNAME:CDT
DTSTART:20220313T020000
TZOFFSETFROM:-0600
TZOFFSETTO:-0500
RDATE:20230312T020000
RDATE:20240310T020000
END:DAYLIGHT
END:VTIMEZONE
BEGIN:VEVENT
UID:b4d7651d-45a5-45f1-aa82-d3173eb2e462
DTSTAMP:20260422T155137Z
DESCRIPTION:8K and 2K run/walk benefitting Hastings Family Service on Thank
 sgiving morning in Downtown Hastings.
DTSTART;TZID=America/Chicago:20221124T083000
DTEND;TZID=America/Chicago:20221124T110000
LOCATION:Downtown Hastings
SUMMARY:Gobble Gait
END:VEVENT
END:VCALENDAR
