BEGIN:VCALENDAR
VERSION:2.0
PRODID:-//hastingsfamilyservice.org//NONSGML kigkonsult.se iCalcreator 2.30
 .10//
CALSCALE:GREGORIAN
METHOD:PUBLISH
UID:050b22e0-bd70-4d1c-ae83-59d257f0d488
X-WR-CALDESC:Our next Market Express (3-4 day supply of food) distribution 
 will be held on Thursday\, November 17th from 4-6pm.\n\nCall 651-437-7134 
 to reserve an express pick up. Deadline to sign up is 4:00pm on November 1
 5th.
X-WR-RELCALID:39bb9556263ce7b714f7c88c10f191fb
X-WR-TIMEZONE:America/Chicago
BEGIN:VTIMEZONE
TZID:America/Chicago
BEGIN:STANDARD
TZNAME:CST
DTSTART:20221106T020000
TZOFFSETFROM:-0500
TZOFFSETTO:-0600
RDATE:20231105T020000
END:STANDARD
BEGIN:DAYLIGHT
TZNAME:CDT
DTSTART:20220313T020000
TZOFFSETFROM:-0600
TZOFFSETTO:-0500
RDATE:20230312T020000
RDATE:20240310T020000
END:DAYLIGHT
END:VTIMEZONE
BEGIN:VEVENT
UID:6eaa9460-5b56-487c-b37e-cc671a564ed3
DTSTAMP:20260422T155259Z
DESCRIPTION:Our next Market Express (3-4 day supply of food) distribution w
 ill be held on Thursday\, November 17th from 4-6pm.\n\nCall 651-437-7134 t
 o reserve an express pick up. Deadline to sign up is 4:00pm on November 15
 th.
DTSTART;TZID=America/Chicago:20221117T160000
DTEND;TZID=America/Chicago:20221117T180000
LOCATION:
SUMMARY:Market Express
END:VEVENT
END:VCALENDAR
