BEGIN:VCALENDAR
VERSION:2.0
PRODID:-//hastingsfamilyservice.org//NONSGML kigkonsult.se iCalcreator 2.30
 .10//
CALSCALE:GREGORIAN
METHOD:PUBLISH
UID:eb2e9303-8c27-484f-85a5-b0ad6a6d1769
X-WR-CALDESC:Support HFS on Give to the Max Day! Online and in-person donat
 ions will be MATCHED on November 17 by generous HFS donors up to $20\,000!
  You can schedule your gift online now!
X-WR-RELCALID:df4065fd0666862356cf2a5d882ab16e
X-WR-TIMEZONE:America/Chicago
BEGIN:VTIMEZONE
TZID:America/Chicago
BEGIN:STANDARD
TZNAME:CST
DTSTART:20221106T020000
TZOFFSETFROM:-0500
TZOFFSETTO:-0600
RDATE:20231105T020000
END:STANDARD
BEGIN:DAYLIGHT
TZNAME:CDT
DTSTART:20220313T020000
TZOFFSETFROM:-0600
TZOFFSETTO:-0500
RDATE:20230312T020000
RDATE:20240310T020000
END:DAYLIGHT
END:VTIMEZONE
BEGIN:VEVENT
UID:a8fe3275-8c5f-4d29-b583-9257265481f4
DTSTAMP:20260422T155725Z
DESCRIPTION:Support HFS on Give to the Max Day! Online and in-person donati
 ons will be MATCHED on November 17 by generous HFS donors up to $20\,000! 
 You can schedule your gift online now!
DTSTART;TZID=America/Chicago:20221117T000000
DTEND;TZID=America/Chicago:20221117T235900
LOCATION:https://www.givemn.org/organization/Hastings-Family-Service
SUMMARY:Give to the Max Day
END:VEVENT
END:VCALENDAR
