BEGIN:VCALENDAR
VERSION:2.0
PRODID:-//hastingsfamilyservice.org//NONSGML kigkonsult.se iCalcreator 2.30
 .10//
CALSCALE:GREGORIAN
METHOD:PUBLISH
UID:231a107a-53d5-43b0-b680-eabb7b4be6fc
X-WR-CALDESC:Visit Hastings Culver's November 14-18th and $1 from the sale 
 of each concrete mixer goes to benefit HFS.
X-WR-RELCALID:5c012bd14c068a680c85c77021f5bf66
X-WR-TIMEZONE:America/Chicago
BEGIN:VTIMEZONE
TZID:America/Chicago
BEGIN:STANDARD
TZNAME:CST
DTSTART:20221106T020000
TZOFFSETFROM:-0500
TZOFFSETTO:-0600
RDATE:20231105T020000
END:STANDARD
BEGIN:DAYLIGHT
TZNAME:CDT
DTSTART:20220313T020000
TZOFFSETFROM:-0600
TZOFFSETTO:-0500
RDATE:20230312T020000
RDATE:20240310T020000
END:DAYLIGHT
END:VTIMEZONE
BEGIN:VEVENT
UID:dcf52b4a-5810-4428-9878-1b6eae18e1fb
DTSTAMP:20260422T155219Z
DESCRIPTION:Visit Hastings Culver's November 14-18th and $1 from the sale o
 f each concrete mixer goes to benefit HFS.
DTSTART;TZID=America/Chicago:20221114T000000
DTEND;TZID=America/Chicago:20221118T235900
LOCATION:Visit Hastings Culver's November 14-18\, 2022 and $1 from the sale
  of each concrete mixer goes to benefit HFS.
SUMMARY:Culver's Concretes for a Cause
END:VEVENT
END:VCALENDAR
